BEGIN:VCALENDAR
VERSION:2.0
PRODID:-//Julie Forbes for Kane County Board District 11 - ECPv6.15.20//NONSGML v1.0//EN
CALSCALE:GREGORIAN
METHOD:PUBLISH
X-WR-CALNAME:Julie Forbes for Kane County Board District 11
X-ORIGINAL-URL:https://julieforkane.com
X-WR-CALDESC:Events for Julie Forbes for Kane County Board District 11
REFRESH-INTERVAL;VALUE=DURATION:PT1H
X-Robots-Tag:noindex
X-PUBLISHED-TTL:PT1H
BEGIN:VTIMEZONE
TZID:America/Chicago
BEGIN:DAYLIGHT
TZOFFSETFROM:-0600
TZOFFSETTO:-0500
TZNAME:CDT
DTSTART:20250309T080000
END:DAYLIGHT
BEGIN:STANDARD
TZOFFSETFROM:-0500
TZOFFSETTO:-0600
TZNAME:CST
DTSTART:20251102T070000
END:STANDARD
BEGIN:DAYLIGHT
TZOFFSETFROM:-0600
TZOFFSETTO:-0500
TZNAME:CDT
DTSTART:20260308T080000
END:DAYLIGHT
BEGIN:STANDARD
TZOFFSETFROM:-0500
TZOFFSETTO:-0600
TZNAME:CST
DTSTART:20261101T070000
END:STANDARD
BEGIN:DAYLIGHT
TZOFFSETFROM:-0600
TZOFFSETTO:-0500
TZNAME:CDT
DTSTART:20270314T080000
END:DAYLIGHT
BEGIN:STANDARD
TZOFFSETFROM:-0500
TZOFFSETTO:-0600
TZNAME:CST
DTSTART:20271107T070000
END:STANDARD
END:VTIMEZONE
BEGIN:VEVENT
DTSTART;TZID=America/Chicago:20260304T180000
DTEND;TZID=America/Chicago:20260304T200000
DTSTAMP:20260421T070715
CREATED:20260227T214230Z
LAST-MODIFIED:20260227T214230Z
UID:1036-1772647200-1772654400@julieforkane.com
SUMMARY:Meet Candidate JULIE FORBES in ST CHARLES!
DESCRIPTION:Join us at Brother Chimp to meet JULIE FORBES\, Candidate for Kane County Board District 11.\n \n\nGet to know Julie and hear why she is running for Board.\nConnect with neighbors who care about our community.\nAsk questions about issues that matter to you.\nHelp shape the future of Kane County.\n\nBeer for purchase. Pizza & snacks provided \nPlease come for good conversation\, friendly faces\, and a chance to meet a member of your community who wants to represent you. \n    Wednesday\, March 4    6:00p – 8:00p    *Arrive & mingle with your hosts\, Julie\, and others (6:00-6:30)\, then Julie will speak and take questions. \n👉 Questions about the event? Email CONTACT.JulieForKane@gmail.com.
URL:https://julieforkane.com/event/meet-candidate-julie-forbes-in-st-charles/
LOCATION:Brother Chimp Brewing – St. Charles\, 303 N 4th Street\, St. Charles\, IL\, 60510\, United States
ATTACH;FMTTYPE=image/png:https://julieforkane.com/wp-content/uploads/2026/02/screen-shot-2026-02-27-at-3.31.43-pm.png
ORGANIZER;CN="Team Julie":MAILTO:CONTACT.JulieForKane@gmail.com
END:VEVENT
END:VCALENDAR