BEGIN:VCALENDAR
VERSION:2.0
PRODID:-//Julie Forbes for Kane County Board District 11 - ECPv6.15.20//NONSGML v1.0//EN
CALSCALE:GREGORIAN
METHOD:PUBLISH
X-WR-CALNAME:Julie Forbes for Kane County Board District 11
X-ORIGINAL-URL:https://julieforkane.com
X-WR-CALDESC:Events for Julie Forbes for Kane County Board District 11
REFRESH-INTERVAL;VALUE=DURATION:PT1H
X-Robots-Tag:noindex
X-PUBLISHED-TTL:PT1H
BEGIN:VTIMEZONE
TZID:America/Chicago
BEGIN:DAYLIGHT
TZOFFSETFROM:-0600
TZOFFSETTO:-0500
TZNAME:CDT
DTSTART:20250309T080000
END:DAYLIGHT
BEGIN:STANDARD
TZOFFSETFROM:-0500
TZOFFSETTO:-0600
TZNAME:CST
DTSTART:20251102T070000
END:STANDARD
BEGIN:DAYLIGHT
TZOFFSETFROM:-0600
TZOFFSETTO:-0500
TZNAME:CDT
DTSTART:20260308T080000
END:DAYLIGHT
BEGIN:STANDARD
TZOFFSETFROM:-0500
TZOFFSETTO:-0600
TZNAME:CST
DTSTART:20261101T070000
END:STANDARD
BEGIN:DAYLIGHT
TZOFFSETFROM:-0600
TZOFFSETTO:-0500
TZNAME:CDT
DTSTART:20270314T080000
END:DAYLIGHT
BEGIN:STANDARD
TZOFFSETFROM:-0500
TZOFFSETTO:-0600
TZNAME:CST
DTSTART:20271107T070000
END:STANDARD
END:VTIMEZONE
BEGIN:VEVENT
DTSTART;TZID=America/Chicago:20260215T100000
DTEND;TZID=America/Chicago:20260215T120000
DTSTAMP:20260421T083054
CREATED:20260128T145351Z
LAST-MODIFIED:20260128T145548Z
UID:471-1771149600-1771156800@julieforkane.com
SUMMARY:Meet Candidate JULIE FORBES in GENEVA!
DESCRIPTION:You’re invited to warm up with coffee and conversation with JULIE FORBES\, candidate for Kane County Board District 11\, at a neighbor’s home in Geneva on Sunday\, February 15th. \nTake a break from the winter chill and enjoy a relaxed\, small-group gathering with neighbors of all ages. It’s a great chance to meet Julie\, hear what inspired her to run\, and talk about the everyday issues that matter to you and your family. Whether you’re a longtime resident or new to the area\, your questions\, ideas\, and perspective are welcome. \nStop by for a hot cup of coffee\, easy conversation\, and a chance to connect with someone who’s ready to listen and eager to serve our community. \nEarly voting will be underway – this relaxed\, come-as-you-are gathering is a great opportunity to educate yourself ahead of casting your ballot. \n    Sunday\, February 15    10:00a – 12:00p \n👉 RSVP by emailing CONTACT.JulieForKane@gmail.com\, and we will email you the location details.
URL:https://julieforkane.com/event/meet-candidate-julie-forbes-in-geneva/
LOCATION:IL
ATTACH;FMTTYPE=image/jpeg:https://julieforkane.com/wp-content/uploads/2026/01/screen-shot-2026-01-17-at-9.38.32-pm.jpg
END:VEVENT
END:VCALENDAR