BEGIN:VCALENDAR
VERSION:2.0
PRODID:-//Julie Forbes for Kane County Board District 11 - ECPv6.15.20//NONSGML v1.0//EN
CALSCALE:GREGORIAN
METHOD:PUBLISH
X-ORIGINAL-URL:https://julieforkane.com
X-WR-CALDESC:Events for Julie Forbes for Kane County Board District 11
REFRESH-INTERVAL;VALUE=DURATION:PT1H
X-Robots-Tag:noindex
X-PUBLISHED-TTL:PT1H
BEGIN:VTIMEZONE
TZID:America/Chicago
BEGIN:DAYLIGHT
TZOFFSETFROM:-0600
TZOFFSETTO:-0500
TZNAME:CDT
DTSTART:20250309T080000
END:DAYLIGHT
BEGIN:STANDARD
TZOFFSETFROM:-0500
TZOFFSETTO:-0600
TZNAME:CST
DTSTART:20251102T070000
END:STANDARD
BEGIN:DAYLIGHT
TZOFFSETFROM:-0600
TZOFFSETTO:-0500
TZNAME:CDT
DTSTART:20260308T080000
END:DAYLIGHT
BEGIN:STANDARD
TZOFFSETFROM:-0500
TZOFFSETTO:-0600
TZNAME:CST
DTSTART:20261101T070000
END:STANDARD
BEGIN:DAYLIGHT
TZOFFSETFROM:-0600
TZOFFSETTO:-0500
TZNAME:CDT
DTSTART:20270314T080000
END:DAYLIGHT
BEGIN:STANDARD
TZOFFSETFROM:-0500
TZOFFSETTO:-0600
TZNAME:CST
DTSTART:20271107T070000
END:STANDARD
END:VTIMEZONE
BEGIN:VEVENT
DTSTART;TZID=America/Chicago:20260206T180000
DTEND;TZID=America/Chicago:20260206T200000
DTSTAMP:20260421T083255
CREATED:20260128T143035Z
LAST-MODIFIED:20260128T145500Z
UID:464-1770400800-1770408000@julieforkane.com
SUMMARY:Meet Candidate JULIE FORBES in BATAVIA!
DESCRIPTION:Join us for a relaxed\, friendly get-together with JULIE FORBES\, candidate for Kane County Board District 11\, at a neighbor’s home in Batavia on Friday\, February 6th. \nThis casual gathering is a great chance to meet Julie in a small\, comfortable setting\, hear what inspired her to run\, and chat about the issues that matter most to you and our community. Bring your questions\, share your ideas\, and enjoy connecting with neighbors who care about where we live and where we’re headed. \nCome for the conversation\, stay for the community — we’d love to see you there! \n    Friday\, February 6    6:00p – 8:00p\n \n👉 RSVP by emailing CONTACT.JulieForKane@gmail.com\, and we will email you the location details.
URL:https://julieforkane.com/event/meet-candidate-julie-forbes-in-batavia/
LOCATION:IL
ATTACH;FMTTYPE=image/jpeg:https://julieforkane.com/wp-content/uploads/2026/01/screen-shot-2026-01-17-at-9.38.32-pm.jpg
END:VEVENT
END:VCALENDAR